BEGIN:VCALENDAR
VERSION:2.0
PRODID:-//TYPO3/NONSGML News system (news)//EN
BEGIN:VEVENT
TZID:Central Europe Standard Time
UID:news-61366@graduiertenzentrum.tu-dortmund.de
DTSTAMP:20260312T090127Z

DTSTART:20260708T100000
DTEND:20260708T120000


LOCATION:Online via Zoom

DESCRIPTION:https://graduiertenzentrum.tu-dortmund.de/en/eventdetail/verantwortungsvoll-forschen-datenschutz-meistern-2-61366/
SUMMARY:Verantwortungsvoll forschen, Datenschutz meistern 
END:VEVENT
END:VCALENDAR
