BEGIN:VCALENDAR
VERSION:2.0
PRODID:-//TYPO3/NONSGML News system (news)//EN
BEGIN:VEVENT
TZID:Central Europe Standard Time
UID:news-63022@graduiertenzentrum.tu-dortmund.de
DTSTAMP:20260422T120157Z

DTSTART:20260625T120000
DTEND:20260625T133000


LOCATION:Rektoratssitzungssaal, August-Schmidt Str. 4, Campus Süd

DESCRIPTION:https://graduiertenzentrum.tu-dortmund.de/en/eventdetail/young-academy-kaminabend-mit-der-prorektorin-studium-63022/
SUMMARY:Young Academy: Kaminabend mit der Prorektorin Forschung
END:VEVENT
END:VCALENDAR
