BEGIN:VCALENDAR
VERSION:2.0
PRODID:-//TYPO3/NONSGML News system (news)//EN
BEGIN:VEVENT
TZID:Central Europe Standard Time
UID:news-61293@graduiertenzentrum.tu-dortmund.de
DTSTAMP:20260311T122727Z

DTSTART:20260422T093000
DTEND:20260422T110000


LOCATION:online via Zoom

DESCRIPTION:https://graduiertenzentrum.tu-dortmund.de/en/eventdetail/bewerbung-auf-fh-professuren-die-wichtigsten-aspekte-fuer-eine-bewerbung-61293/
SUMMARY:Bewerbung auf FH-Professuren – die wichtigsten Aspekte für eine Bewerbung
END:VEVENT
END:VCALENDAR
