BEGIN:VCALENDAR
VERSION:2.0
PRODID:-//TYPO3/NONSGML News system (news)//EN
BEGIN:VEVENT
TZID:Central Europe Standard Time
UID:news-63019@graduiertenzentrum.tu-dortmund.de
DTSTAMP:20260422T120135Z

DTSTART:20260924T100000
DTEND:20260924T110000


LOCATION:Online via Zoom

DESCRIPTION:https://graduiertenzentrum.tu-dortmund.de/veranstaltungsdetail/postdoc-impuls-enhancing-my-visibility-online-1-63019/
SUMMARY:Postdoc Impuls: Enhancing my visibility online
END:VEVENT
END:VCALENDAR
